BEGIN:VCALENDAR
VERSION:2.0
PRODID:LFV Website-Kit
METHOD:PUBLISH
BEGIN:VEVENT
UID:lfv-90012a8c-4250-47df-9c84-d9073549d8ef
LOCATION:
SUMMARY:150 Jahre Feuerwehr Altenthann
DESCRIPTION:Termin Link: https://www.feuerwehr-altenthann.de/termine/veranstaltungen/150-jahre-feuerwehr-altenthann/
URL:https://www.feuerwehr-altenthann.de/termine/veranstaltungen/150-jahre-feuerwehr-altenthann/
CLASS:PRIVATE
DTSTART;VALUE=DATE:20270625
DTEND;VALUE=DATE:20270628
DTSTAMP:20260421T174706Z
END:VEVENT
END:VCALENDAR